Package: RCM Version: 1.22.0 Command: F:\biocbuild\bbs-3.20-bioc\R\bin\R.exe CMD INSTALL RCM StartedAt: 2025-01-27 16:46:45 -0500 (Mon, 27 Jan 2025) EndedAt: 2025-01-27 16:47:27 -0500 (Mon, 27 Jan 2025) EllapsedTime: 42.1 seconds RetCode: 0 Status: OK