Package: RCM Version: 1.22.0 Command: /home/biocbuild/bbs-3.20-bioc/R/bin/R CMD INSTALL RCM StartedAt: 2025-01-27 16:40:29 -0500 (Mon, 27 Jan 2025) EndedAt: 2025-01-27 16:40:57 -0500 (Mon, 27 Jan 2025) EllapsedTime: 27.9 seconds RetCode: 0 Status: OK