Package: RCM Version: 1.22.0 Command: /Library/Frameworks/R.framework/Resources/bin/R CMD check --install=check:RCM.install-out.txt --library=/Library/Frameworks/R.framework/Resources/library --no-vignettes --timings RCM_1.22.0.tar.gz StartedAt: 2025-02-04 08:38:49 -0500 (Tue, 04 Feb 2025) EndedAt: 2025-02-04 08:50:11 -0500 (Tue, 04 Feb 2025) EllapsedTime: 681.9 seconds RetCode: 0 Status: OK CheckDir: RCM.Rcheck Warnings: 0