Package: RCM Version: 1.22.0 Command: /Library/Frameworks/R.framework/Resources/bin/R CMD check --install=check:RCM.install-out.txt --library=/Library/Frameworks/R.framework/Resources/library --no-vignettes --timings RCM_1.22.0.tar.gz StartedAt: 2025-04-02 05:30:09 -0400 (Wed, 02 Apr 2025) EndedAt: 2025-04-02 05:35:12 -0400 (Wed, 02 Apr 2025) EllapsedTime: 303.4 seconds RetCode: 0 Status: OK CheckDir: RCM.Rcheck Warnings: 0