Package: RCM Version: 1.22.0 Command: rm -rf RCM.buildbin-libdir && mkdir RCM.buildbin-libdir && /Users/biocbuild/BBS/utils/build-universal.sh RCM_1.22.0.tar.gz /Library/Frameworks/R.framework/Resources/bin/R RCM.buildbin-libdir StartedAt: 2025-04-02 15:50:02 -0400 (Wed, 02 Apr 2025) EndedAt: 2025-04-02 15:50:33 -0400 (Wed, 02 Apr 2025) EllapsedTime: 31.0 seconds RetCode: 0 Status: OK PackageFile: RCM_1.22.0.tgz PackageFileSize: 5.058 MiB