Package: RCASPAR Version: 1.52.0 Command: /home/biocbuild/R/R/bin/R CMD check --install=check:RCASPAR.install-out.txt --library=/home/biocbuild/R/R/site-library --no-vignettes --timings RCASPAR_1.52.0.tar.gz StartedAt: 2025-02-04 10:15:09 -0000 (Tue, 04 Feb 2025) EndedAt: 2025-02-04 10:15:29 -0000 (Tue, 04 Feb 2025) EllapsedTime: 20.0 seconds RetCode: 0 Status: OK CheckDir: RCASPAR.Rcheck Warnings: 0