Package: RCASPAR Version: 1.52.0 Command: /Library/Frameworks/R.framework/Resources/bin/R CMD INSTALL RCASPAR StartedAt: 2025-03-31 15:12:53 -0400 (Mon, 31 Mar 2025) EndedAt: 2025-03-31 15:12:56 -0400 (Mon, 31 Mar 2025) EllapsedTime: 3.5 seconds RetCode: 0 Status: OK