Package: RCASPAR Version: 1.52.0 Command: /Library/Frameworks/R.framework/Resources/bin/R CMD check --install=check:RCASPAR.install-out.txt --library=/Library/Frameworks/R.framework/Resources/library --no-vignettes --timings RCASPAR_1.52.0.tar.gz StartedAt: 2025-02-01 06:00:48 -0500 (Sat, 01 Feb 2025) EndedAt: 2025-02-01 06:01:13 -0500 (Sat, 01 Feb 2025) EllapsedTime: 25.5 seconds RetCode: 0 Status: OK CheckDir: RCASPAR.Rcheck Warnings: 0