Package: RCAS Version: 1.32.0 Command: /home/biocbuild/R/R/bin/R CMD INSTALL RCAS StartedAt: 2025-02-03 20:56:35 -0000 (Mon, 03 Feb 2025) EndedAt: 2025-02-03 20:57:33 -0000 (Mon, 03 Feb 2025) EllapsedTime: 58.1 seconds RetCode: 0 Status: OK