Package: RCAS Version: 1.32.0 Command: /home/biocbuild/R/R/bin/R CMD check --install=check:RCAS.install-out.txt --library=/home/biocbuild/R/R/site-library --no-vignettes --timings RCAS_1.32.0.tar.gz StartedAt: 2025-02-04 10:15:03 -0000 (Tue, 04 Feb 2025) EndedAt: 2025-02-04 10:27:15 -0000 (Tue, 04 Feb 2025) EllapsedTime: 731.2 seconds RetCode: 0 Status: OK CheckDir: RCAS.Rcheck Warnings: 0