Package: RCAS Version: 1.32.0 Command: /home/biocbuild/R/R/bin/R CMD build --keep-empty-dirs --no-resave-data RCAS StartedAt: 2025-02-04 02:07:07 -0000 (Tue, 04 Feb 2025) EndedAt: 2025-02-04 02:10:24 -0000 (Tue, 04 Feb 2025) EllapsedTime: 197.2 seconds RetCode: 0 Status: OK PackageFile: RCAS_1.32.0.tar.gz PackageFileSize: 1.373 MiB