Package: RCAS Version: 1.32.0 Command: /Library/Frameworks/R.framework/Resources/bin/R CMD INSTALL RCAS StartedAt: 2025-03-31 16:48:35 -0400 (Mon, 31 Mar 2025) EndedAt: 2025-03-31 16:49:27 -0400 (Mon, 31 Mar 2025) EllapsedTime: 52.7 seconds RetCode: 0 Status: OK