Package: RBioinf Version: 1.66.0 Command: /home/biocbuild/bbs-3.20-bioc/R/bin/R CMD build --keep-empty-dirs --no-resave-data --md5 RBioinf StartedAt: 2025-01-27 19:39:15 -0500 (Mon, 27 Jan 2025) EndedAt: 2025-01-27 19:39:25 -0500 (Mon, 27 Jan 2025) EllapsedTime: 10.0 seconds RetCode: 0 Status: OK PackageFile: RBioinf_1.66.0.tar.gz PackageFileSize: 3.545 MiB