Package: RBGL Version: 1.82.0 Command: /home/biocbuild/R/R/bin/R CMD check --install=check:RBGL.install-out.txt --library=/home/biocbuild/R/R/site-library --no-vignettes --timings RBGL_1.82.0.tar.gz StartedAt: 2025-01-28 10:23:16 -0000 (Tue, 28 Jan 2025) EndedAt: 2025-01-28 10:24:31 -0000 (Tue, 28 Jan 2025) EllapsedTime: 74.1 seconds RetCode: 0 Status: WARNINGS CheckDir: RBGL.Rcheck Warnings: 1