Package: RBGL Version: 1.82.0 Command: F:\biocbuild\bbs-3.20-bioc\R\bin\R.exe CMD check --no-multiarch --install=check:RBGL.install-out.txt --library=F:\biocbuild\bbs-3.20-bioc\R\library --no-vignettes --timings RBGL_1.82.0.tar.gz StartedAt: 2025-01-28 04:59:57 -0500 (Tue, 28 Jan 2025) EndedAt: 2025-01-28 05:01:34 -0500 (Tue, 28 Jan 2025) EllapsedTime: 96.7 seconds RetCode: 0 Status: WARNINGS CheckDir: RBGL.Rcheck Warnings: 1