Package: RBGL Version: 1.82.0 Command: /Library/Frameworks/R.framework/Resources/bin/R CMD check --install=check:RBGL.install-out.txt --library=/Library/Frameworks/R.framework/Resources/library --no-vignettes --timings RBGL_1.82.0.tar.gz StartedAt: 2024-11-20 01:37:05 -0500 (Wed, 20 Nov 2024) EndedAt: 2024-11-20 01:41:38 -0500 (Wed, 20 Nov 2024) EllapsedTime: 272.6 seconds RetCode: 0 Status: OK CheckDir: RBGL.Rcheck Warnings: 0