Package: RAREsim Version: 1.10.0 Command: /home/biocbuild/R/R/bin/R CMD check --install=check:RAREsim.install-out.txt --library=/home/biocbuild/R/R/site-library --no-vignettes --timings RAREsim_1.10.0.tar.gz StartedAt: 2025-04-01 09:47:21 -0000 (Tue, 01 Apr 2025) EndedAt: 2025-04-01 09:47:38 -0000 (Tue, 01 Apr 2025) EllapsedTime: 17.0 seconds RetCode: 0 Status: OK CheckDir: RAREsim.Rcheck Warnings: 0