Package: RAIDS Version: 1.4.0 Command: /home/biocbuild/R/R/bin/R CMD INSTALL RAIDS StartedAt: 2025-02-03 21:12:21 -0000 (Mon, 03 Feb 2025) EndedAt: 2025-02-03 21:13:26 -0000 (Mon, 03 Feb 2025) EllapsedTime: 65.0 seconds RetCode: 0 Status: OK