Package: RAIDS Version: 1.4.0 Command: /home/biocbuild/R/R/bin/R CMD check --install=check:RAIDS.install-out.txt --library=/home/biocbuild/R/R/site-library --no-vignettes --timings RAIDS_1.4.0.tar.gz StartedAt: 2025-04-01 09:46:27 -0000 (Tue, 01 Apr 2025) EndedAt: 2025-04-01 09:54:21 -0000 (Tue, 01 Apr 2025) EllapsedTime: 474.8 seconds RetCode: 0 Status: OK CheckDir: RAIDS.Rcheck Warnings: 0