Package: RAIDS Version: 1.4.0 Command: /Library/Frameworks/R.framework/Resources/bin/R CMD INSTALL RAIDS StartedAt: 2025-02-03 17:33:12 -0500 (Mon, 03 Feb 2025) EndedAt: 2025-02-03 17:34:15 -0500 (Mon, 03 Feb 2025) EllapsedTime: 63.0 seconds RetCode: 0 Status: OK