Package: RAIDS Version: 1.4.0 Command: rm -rf RAIDS.buildbin-libdir && mkdir RAIDS.buildbin-libdir && /Users/biocbuild/BBS/utils/build-universal.sh RAIDS_1.4.0.tar.gz /Library/Frameworks/R.framework/Resources/bin/R RAIDS.buildbin-libdir StartedAt: 2025-02-05 17:17:08 -0500 (Wed, 05 Feb 2025) EndedAt: 2025-02-05 17:18:17 -0500 (Wed, 05 Feb 2025) EllapsedTime: 69.1 seconds RetCode: 0 Status: OK PackageFile: RAIDS_1.4.0.tgz PackageFileSize: 2.707 MiB