Package: R4RNA Version: 1.34.0 Command: /home/biocbuild/R/R/bin/R CMD build --keep-empty-dirs --no-resave-data R4RNA StartedAt: 2025-01-28 02:34:33 -0000 (Tue, 28 Jan 2025) EndedAt: 2025-01-28 02:34:53 -0000 (Tue, 28 Jan 2025) EllapsedTime: 20.0 seconds RetCode: 0 Status: OK PackageFile: R4RNA_1.34.0.tar.gz PackageFileSize: 899.2 KiB