Package: R4RNA Version: 1.34.0 Command: F:\biocbuild\bbs-3.20-bioc\R\bin\R.exe CMD check --no-multiarch --install=check:R4RNA.install-out.txt --library=F:\biocbuild\bbs-3.20-bioc\R\library --no-vignettes --timings R4RNA_1.34.0.tar.gz StartedAt: 2025-01-28 04:57:18 -0500 (Tue, 28 Jan 2025) EndedAt: 2025-01-28 04:58:53 -0500 (Tue, 28 Jan 2025) EllapsedTime: 94.8 seconds RetCode: 0 Status: OK CheckDir: R4RNA.Rcheck Warnings: 0