Package: R453Plus1Toolbox Version: 1.56.0 Command: /home/biocbuild/R/R/bin/R CMD INSTALL R453Plus1Toolbox StartedAt: 2025-02-03 20:51:38 -0000 (Mon, 03 Feb 2025) EndedAt: 2025-02-03 20:53:10 -0000 (Mon, 03 Feb 2025) EllapsedTime: 91.3 seconds RetCode: 0 Status: OK