Package: R453Plus1Toolbox Version: 1.56.0 Command: /home/biocbuild/R/R/bin/R CMD build --keep-empty-dirs --no-resave-data R453Plus1Toolbox StartedAt: 2025-02-04 02:03:22 -0000 (Tue, 04 Feb 2025) EndedAt: 2025-02-04 02:05:41 -0000 (Tue, 04 Feb 2025) EllapsedTime: 139.2 seconds RetCode: 0 Status: OK PackageFile: R453Plus1Toolbox_1.56.0.tar.gz PackageFileSize: 833.6 KiB