Package: R453Plus1Toolbox Version: 1.56.0 Command: /home/biocbuild/bbs-3.20-bioc/R/bin/R CMD INSTALL R453Plus1Toolbox StartedAt: 2025-03-31 15:33:10 -0400 (Mon, 31 Mar 2025) EndedAt: 2025-03-31 15:34:18 -0400 (Mon, 31 Mar 2025) EllapsedTime: 67.3 seconds RetCode: 0 Status: OK