Package: R453Plus1Toolbox Version: 1.56.0 Command: /Library/Frameworks/R.framework/Resources/bin/R CMD INSTALL R453Plus1Toolbox StartedAt: 2025-02-03 15:56:43 -0500 (Mon, 03 Feb 2025) EndedAt: 2025-02-03 15:59:23 -0500 (Mon, 03 Feb 2025) EllapsedTime: 159.9 seconds RetCode: 0 Status: OK