Package: R453Plus1Toolbox Version: 1.56.0 Command: /Library/Frameworks/R.framework/Resources/bin/R CMD INSTALL R453Plus1Toolbox StartedAt: 2025-01-27 16:54:31 -0500 (Mon, 27 Jan 2025) EndedAt: 2025-01-27 16:55:53 -0500 (Mon, 27 Jan 2025) EllapsedTime: 81.8 seconds RetCode: 0 Status: OK