Package: R3CPET Version: 1.38.0 Command: /home/biocbuild/R/R/bin/R CMD INSTALL R3CPET StartedAt: 2025-03-31 20:48:19 -0000 (Mon, 31 Mar 2025) EndedAt: 2025-03-31 20:49:56 -0000 (Mon, 31 Mar 2025) EllapsedTime: 97.0 seconds RetCode: 0 Status: OK