Package: R3CPET Version: 1.38.0 Command: /home/biocbuild/R/R/bin/R CMD check --install=check:R3CPET.install-out.txt --library=/home/biocbuild/R/R/site-library --no-vignettes --timings R3CPET_1.38.0.tar.gz StartedAt: 2025-04-01 09:44:43 -0000 (Tue, 01 Apr 2025) EndedAt: 2025-04-01 09:51:30 -0000 (Tue, 01 Apr 2025) EllapsedTime: 406.7 seconds RetCode: 0 Status: WARNINGS CheckDir: R3CPET.Rcheck Warnings: 2