Package: QuaternaryProd Version: 1.40.0 Command: F:\biocbuild\bbs-3.20-bioc\R\bin\R.exe CMD check --no-multiarch --install=check:QuaternaryProd.install-out.txt --library=F:\biocbuild\bbs-3.20-bioc\R\library --no-vignettes --timings QuaternaryProd_1.40.0.tar.gz StartedAt: 2025-04-01 04:55:14 -0400 (Tue, 01 Apr 2025) EndedAt: 2025-04-01 04:56:42 -0400 (Tue, 01 Apr 2025) EllapsedTime: 88.8 seconds RetCode: 0 Status: OK CheckDir: QuaternaryProd.Rcheck Warnings: 0