Package: QuaternaryProd Version: 1.40.0 Command: chmod a+r QuaternaryProd -R && F:\biocbuild\bbs-3.20-bioc\R\bin\R.exe CMD build --keep-empty-dirs --no-resave-data QuaternaryProd StartedAt: 2025-03-31 21:14:18 -0400 (Mon, 31 Mar 2025) EndedAt: 2025-03-31 21:20:42 -0400 (Mon, 31 Mar 2025) EllapsedTime: 384.0 seconds RetCode: 0 Status: OK PackageFile: QuaternaryProd_1.40.0.tar.gz PackageFileSize: 10.75 MiB