Package: QuaternaryProd Version: 1.40.0 Command: /Library/Frameworks/R.framework/Resources/bin/R CMD check --install=check:QuaternaryProd.install-out.txt --library=/Library/Frameworks/R.framework/Resources/library --no-vignettes --timings QuaternaryProd_1.40.0.tar.gz StartedAt: 2025-01-28 08:40:49 -0500 (Tue, 28 Jan 2025) EndedAt: 2025-01-28 08:42:50 -0500 (Tue, 28 Jan 2025) EllapsedTime: 120.5 seconds RetCode: 0 Status: OK CheckDir: QuaternaryProd.Rcheck Warnings: 0