Package: QuaternaryProd Version: 1.40.0 Command: /Library/Frameworks/R.framework/Resources/bin/R CMD build --keep-empty-dirs --no-resave-data QuaternaryProd StartedAt: 2025-03-31 21:13:25 -0400 (Mon, 31 Mar 2025) EndedAt: 2025-03-31 21:25:03 -0400 (Mon, 31 Mar 2025) EllapsedTime: 698.2 seconds RetCode: 0 Status: OK PackageFile: QuaternaryProd_1.40.0.tar.gz PackageFileSize: 10.75 MiB