Package: QuasR Version: 1.46.0 Command: /home/biocbuild/bbs-3.20-bioc/R/bin/R CMD check --install=check:QuasR.install-out.txt --library=/home/biocbuild/bbs-3.20-bioc/R/site-library --timings QuasR_1.46.0.tar.gz StartedAt: 2025-01-28 02:15:30 -0500 (Tue, 28 Jan 2025) EndedAt: 2025-01-28 02:27:57 -0500 (Tue, 28 Jan 2025) EllapsedTime: 747.0 seconds RetCode: 0 Status: WARNINGS CheckDir: QuasR.Rcheck Warnings: 1