Package: QuasR Version: 1.46.0 Command: /home/biocbuild/bbs-3.20-bioc/R/bin/R CMD build --keep-empty-dirs --no-resave-data --md5 QuasR StartedAt: 2025-01-27 19:36:55 -0500 (Mon, 27 Jan 2025) EndedAt: 2025-01-27 19:41:02 -0500 (Mon, 27 Jan 2025) EllapsedTime: 247.3 seconds RetCode: 0 Status: OK PackageFile: QuasR_1.46.0.tar.gz PackageFileSize: 2.438 MiB