Package: QuasR Version: 1.46.0 Command: rm -rf QuasR.buildbin-libdir && mkdir QuasR.buildbin-libdir && /Users/biocbuild/BBS/utils/build-universal.sh QuasR_1.46.0.tar.gz /Library/Frameworks/R.framework/Resources/bin/R QuasR.buildbin-libdir StartedAt: 2025-01-28 14:13:14 -0500 (Tue, 28 Jan 2025) EndedAt: 2025-01-28 14:17:37 -0500 (Tue, 28 Jan 2025) EllapsedTime: 263.0 seconds RetCode: 0 Status: OK PackageFile: QuasR_1.46.0.tgz PackageFileSize: 3.455 MiB