Package: QuartPAC Version: 1.38.0 Command: /Library/Frameworks/R.framework/Resources/bin/R CMD build --keep-empty-dirs --no-resave-data QuartPAC StartedAt: 2025-01-27 21:45:29 -0500 (Mon, 27 Jan 2025) EndedAt: 2025-01-27 21:47:51 -0500 (Mon, 27 Jan 2025) EllapsedTime: 141.4 seconds RetCode: 0 Status: OK PackageFile: QuartPAC_1.38.0.tar.gz PackageFileSize: 907.5 KiB