Package: Qtlizer Version: 1.20.1 Maintainer: Matthias Munz MaintainerEmail: matthias.munz at gmx.de git_url: https://git.bioconductor.org/packages/Qtlizer git_branch: RELEASE_3_20 git_last_commit: 0e02840 git_last_commit_date: 2025-02-28 09:18:15 -0400 (Fri, 28 Feb 2025)