Package: QUBIC Version: 1.34.0 Command: /home/biocbuild/R/R/bin/R CMD build --keep-empty-dirs --no-resave-data QUBIC StartedAt: 2025-02-04 02:02:16 -0000 (Tue, 04 Feb 2025) EndedAt: 2025-02-04 02:04:17 -0000 (Tue, 04 Feb 2025) EllapsedTime: 121.1 seconds RetCode: 0 Status: OK PackageFile: QUBIC_1.34.0.tar.gz PackageFileSize: 488 KiB