Package: QUBIC Version: 1.34.0 Command: /home/biocbuild/bbs-3.20-bioc/R/bin/R CMD INSTALL QUBIC StartedAt: 2025-03-31 15:51:52 -0400 (Mon, 31 Mar 2025) EndedAt: 2025-03-31 15:52:20 -0400 (Mon, 31 Mar 2025) EllapsedTime: 28.0 seconds RetCode: 0 Status: OK