Package: QUBIC Version: 1.34.0 Command: /home/biocbuild/bbs-3.20-bioc/R/bin/R CMD build --keep-empty-dirs --no-resave-data --md5 QUBIC StartedAt: 2025-03-31 18:39:43 -0400 (Mon, 31 Mar 2025) EndedAt: 2025-03-31 18:41:34 -0400 (Mon, 31 Mar 2025) EllapsedTime: 110.1 seconds RetCode: 0 Status: OK PackageFile: QUBIC_1.34.0.tar.gz PackageFileSize: 495.7 KiB