Package: QUBIC Version: 1.34.0 Command: /Library/Frameworks/R.framework/Resources/bin/R CMD INSTALL QUBIC StartedAt: 2025-01-27 16:32:00 -0500 (Mon, 27 Jan 2025) EndedAt: 2025-01-27 16:33:02 -0500 (Mon, 27 Jan 2025) EllapsedTime: 61.8 seconds RetCode: 0 Status: OK