Package: QUBIC Version: 1.34.0 Command: /Library/Frameworks/R.framework/Resources/bin/R CMD build --keep-empty-dirs --no-resave-data QUBIC StartedAt: 2025-02-03 21:30:18 -0500 (Mon, 03 Feb 2025) EndedAt: 2025-02-03 21:33:04 -0500 (Mon, 03 Feb 2025) EllapsedTime: 165.8 seconds RetCode: 0 Status: OK PackageFile: QUBIC_1.34.0.tar.gz PackageFileSize: 494.4 KiB