Package: QUBIC Version: 1.34.0 Command: /Library/Frameworks/R.framework/Resources/bin/R CMD INSTALL QUBIC StartedAt: 2025-01-27 17:46:56 -0500 (Mon, 27 Jan 2025) EndedAt: 2025-01-27 17:47:23 -0500 (Mon, 27 Jan 2025) EllapsedTime: 27.1 seconds RetCode: 0 Status: OK