Package: QUBIC Version: 1.34.0 Command: /Library/Frameworks/R.framework/Resources/bin/R CMD check --install=check:QUBIC.install-out.txt --library=/Library/Frameworks/R.framework/Resources/library --no-vignettes --timings QUBIC_1.34.0.tar.gz StartedAt: 2025-04-02 05:16:15 -0400 (Wed, 02 Apr 2025) EndedAt: 2025-04-02 05:17:02 -0400 (Wed, 02 Apr 2025) EllapsedTime: 47.3 seconds RetCode: 0 Status: OK CheckDir: QUBIC.Rcheck Warnings: 0