Package: QTLExperiment Version: 1.4.0 Command: F:\biocbuild\bbs-3.20-bioc\R\bin\R.exe CMD check --no-multiarch --install=check:QTLExperiment.install-out.txt --library=F:\biocbuild\bbs-3.20-bioc\R\library --no-vignettes --timings QTLExperiment_1.4.0.tar.gz StartedAt: 2025-04-01 04:53:04 -0400 (Tue, 01 Apr 2025) EndedAt: 2025-04-01 04:56:53 -0400 (Tue, 01 Apr 2025) EllapsedTime: 228.6 seconds RetCode: 0 Status: OK CheckDir: QTLExperiment.Rcheck Warnings: 0