Package: QTLExperiment Version: 1.4.0 Command: chmod a+r QTLExperiment -R && F:\biocbuild\bbs-3.20-bioc\R\bin\R.exe CMD build --keep-empty-dirs --no-resave-data QTLExperiment StartedAt: 2025-03-31 21:13:16 -0400 (Mon, 31 Mar 2025) EndedAt: 2025-03-31 21:14:17 -0400 (Mon, 31 Mar 2025) EllapsedTime: 61.6 seconds RetCode: 0 Status: OK PackageFile: QTLExperiment_1.4.0.tar.gz PackageFileSize: 612.4 KiB