Package: QTLExperiment Version: 1.4.0 Command: /home/biocbuild/bbs-3.20-bioc/R/bin/R CMD INSTALL QTLExperiment StartedAt: 2025-03-31 15:16:24 -0400 (Mon, 31 Mar 2025) EndedAt: 2025-03-31 15:16:48 -0400 (Mon, 31 Mar 2025) EllapsedTime: 24.0 seconds RetCode: 0 Status: OK