Package: QTLExperiment Version: 1.4.0 Command: /home/biocbuild/bbs-3.20-bioc/R/bin/R CMD check --install=check:QTLExperiment.install-out.txt --library=/home/biocbuild/bbs-3.20-bioc/R/site-library --timings QTLExperiment_1.4.0.tar.gz StartedAt: 2025-04-01 01:14:36 -0400 (Tue, 01 Apr 2025) EndedAt: 2025-04-01 01:17:54 -0400 (Tue, 01 Apr 2025) EllapsedTime: 198.2 seconds RetCode: 0 Status: OK CheckDir: QTLExperiment.Rcheck Warnings: 0